Workbook

Sheet Матрица 5x5
A1: Матрица рисков 5×5: уровень = вероятность × влияние. Пороги зон на листе «Пороги», шкалы на листе «Шкалы». Введите оценки риска на листе «Оценка» — матрица покажет его положение.
A3: Вероятность ↓ / Влияние → | B3: 1 | C3: 2 | D3: 3 | E3: 4 | F3: 5
A4: 5 | B4: =5*1&IF(COUNTIFS(Оценка!$C:$C,5,Оценка!$D:$D,1)>0," • "&COUNTIFS(Оценка!$C:$C,5,Оценка!$D:$D,1)&" риск(ов)","") | C4: =5*2&IF(COUNTIFS(Оценка!$C:$C,5,Оценка!$D:$D,2)>0," • "&COUNTIFS(Оценка!$C:$C,5,Оценка!$D:$D,2)&" риск(ов)","") | D4: =5*3&IF(COUNTIFS(Оценка!$C:$C,5,Оценка!$D:$D,3)>0," • "&COUNTIFS(Оценка!$C:$C,5,Оценка!$D:$D,3)&" риск(ов)","") | E4: =5*4&IF(COUNTIFS(Оценка!$C:$C,5,Оценка!$D:$D,4)>0," • "&COUNTIFS(Оценка!$C:$C,5,Оценка!$D:$D,4)&" риск(ов)","") | F4: =5*5&IF(COUNTIFS(Оценка!$C:$C,5,Оценка!$D:$D,5)>0," • "&COUNTIFS(Оценка!$C:$C,5,Оценка!$D:$D,5)&" риск(ов)","")
A5: 4 | B5: =4*1&IF(COUNTIFS(Оценка!$C:$C,4,Оценка!$D:$D,1)>0," • "&COUNTIFS(Оценка!$C:$C,4,Оценка!$D:$D,1)&" риск(ов)","") | C5: =4*2&IF(COUNTIFS(Оценка!$C:$C,4,Оценка!$D:$D,2)>0," • "&COUNTIFS(Оценка!$C:$C,4,Оценка!$D:$D,2)&" риск(ов)","") | D5: =4*3&IF(COUNTIFS(Оценка!$C:$C,4,Оценка!$D:$D,3)>0," • "&COUNTIFS(Оценка!$C:$C,4,Оценка!$D:$D,3)&" риск(ов)","") | E5: =4*4&IF(COUNTIFS(Оценка!$C:$C,4,Оценка!$D:$D,4)>0," • "&COUNTIFS(Оценка!$C:$C,4,Оценка!$D:$D,4)&" риск(ов)","") | F5: =4*5&IF(COUNTIFS(Оценка!$C:$C,4,Оценка!$D:$D,5)>0," • "&COUNTIFS(Оценка!$C:$C,4,Оценка!$D:$D,5)&" риск(ов)","")
A6: 3 | B6: =3*1&IF(COUNTIFS(Оценка!$C:$C,3,Оценка!$D:$D,1)>0," • "&COUNTIFS(Оценка!$C:$C,3,Оценка!$D:$D,1)&" риск(ов)","") | C6: =3*2&IF(COUNTIFS(Оценка!$C:$C,3,Оценка!$D:$D,2)>0," • "&COUNTIFS(Оценка!$C:$C,3,Оценка!$D:$D,2)&" риск(ов)","") | D6: =3*3&IF(COUNTIFS(Оценка!$C:$C,3,Оценка!$D:$D,3)>0," • "&COUNTIFS(Оценка!$C:$C,3,Оценка!$D:$D,3)&" риск(ов)","") | E6: =3*4&IF(COUNTIFS(Оценка!$C:$C,3,Оценка!$D:$D,4)>0," • "&COUNTIFS(Оценка!$C:$C,3,Оценка!$D:$D,4)&" риск(ов)","") | F6: =3*5&IF(COUNTIFS(Оценка!$C:$C,3,Оценка!$D:$D,5)>0," • "&COUNTIFS(Оценка!$C:$C,3,Оценка!$D:$D,5)&" риск(ов)","")
A7: 2 | B7: =2*1&IF(COUNTIFS(Оценка!$C:$C,2,Оценка!$D:$D,1)>0," • "&COUNTIFS(Оценка!$C:$C,2,Оценка!$D:$D,1)&" риск(ов)","") | C7: =2*2&IF(COUNTIFS(Оценка!$C:$C,2,Оценка!$D:$D,2)>0," • "&COUNTIFS(Оценка!$C:$C,2,Оценка!$D:$D,2)&" риск(ов)","") | D7: =2*3&IF(COUNTIFS(Оценка!$C:$C,2,Оценка!$D:$D,3)>0," • "&COUNTIFS(Оценка!$C:$C,2,Оценка!$D:$D,3)&" риск(ов)","") | E7: =2*4&IF(COUNTIFS(Оценка!$C:$C,2,Оценка!$D:$D,4)>0," • "&COUNTIFS(Оценка!$C:$C,2,Оценка!$D:$D,4)&" риск(ов)","") | F7: =2*5&IF(COUNTIFS(Оценка!$C:$C,2,Оценка!$D:$D,5)>0," • "&COUNTIFS(Оценка!$C:$C,2,Оценка!$D:$D,5)&" риск(ов)","")
A8: 1 | B8: =1*1&IF(COUNTIFS(Оценка!$C:$C,1,Оценка!$D:$D,1)>0," • "&COUNTIFS(Оценка!$C:$C,1,Оценка!$D:$D,1)&" риск(ов)","") | C8: =1*2&IF(COUNTIFS(Оценка!$C:$C,1,Оценка!$D:$D,2)>0," • "&COUNTIFS(Оценка!$C:$C,1,Оценка!$D:$D,2)&" риск(ов)","") | D8: =1*3&IF(COUNTIFS(Оценка!$C:$C,1,Оценка!$D:$D,3)>0," • "&COUNTIFS(Оценка!$C:$C,1,Оценка!$D:$D,3)&" риск(ов)","") | E8: =1*4&IF(COUNTIFS(Оценка!$C:$C,1,Оценка!$D:$D,4)>0," • "&COUNTIFS(Оценка!$C:$C,1,Оценка!$D:$D,4)&" риск(ов)","") | F8: =1*5&IF(COUNTIFS(Оценка!$C:$C,1,Оценка!$D:$D,5)>0," • "&COUNTIFS(Оценка!$C:$C,1,Оценка!$D:$D,5)&" риск(ов)","")

Sheet Оценка
A1: Первая строка — пример.
A3: ID | B3: Риск | C3: Вероятность (1-5) | D3: Влияние (1-5) | E3: Уровень | F3: Зона | G3: Что делать
A4: R-001 | B4: Остановка линии из-за отказа оборудования | C4: 3 | D4: 4 | E4: =C4*D4 | F4: =IF(E4>=15,"красная",IF(E4>=10,"оранжевая",IF(E4>=5,"желтая","зеленая"))) | G4: =VLOOKUP(F4,Пороги!A:C,3,FALSE)
E5: =IF(C5*D5=0,"",C5*D5) | F5: =IF(E5="","",IF(E5>=15,"красная",IF(E5>=10,"оранжевая",IF(E5>=5,"желтая","зеленая")))) | G5: =IF(F5="","",VLOOKUP(F5,Пороги!A:C,3,FALSE))
E6: =IF(C6*D6=0,"",C6*D6) | F6: =IF(E6="","",IF(E6>=15,"красная",IF(E6>=10,"оранжевая",IF(E6>=5,"желтая","зеленая")))) | G6: =IF(F6="","",VLOOKUP(F6,Пороги!A:C,3,FALSE))
E7: =IF(C7*D7=0,"",C7*D7) | F7: =IF(E7="","",IF(E7>=15,"красная",IF(E7>=10,"оранжевая",IF(E7>=5,"желтая","зеленая")))) | G7: =IF(F7="","",VLOOKUP(F7,Пороги!A:C,3,FALSE))
E8: =IF(C8*D8=0,"",C8*D8) | F8: =IF(E8="","",IF(E8>=15,"красная",IF(E8>=10,"оранжевая",IF(E8>=5,"желтая","зеленая")))) | G8: =IF(F8="","",VLOOKUP(F8,Пороги!A:C,3,FALSE))
E9: =IF(C9*D9=0,"",C9*D9) | F9: =IF(E9="","",IF(E9>=15,"красная",IF(E9>=10,"оранжевая",IF(E9>=5,"желтая","зеленая")))) | G9: =IF(F9="","",VLOOKUP(F9,Пороги!A:C,3,FALSE))
E10: =IF(C10*D10=0,"",C10*D10) | F10: =IF(E10="","",IF(E10>=15,"красная",IF(E10>=10,"оранжевая",IF(E10>=5,"желтая","зеленая")))) | G10: =IF(F10="","",VLOOKUP(F10,Пороги!A:C,3,FALSE))
E11: =IF(C11*D11=0,"",C11*D11) | F11: =IF(E11="","",IF(E11>=15,"красная",IF(E11>=10,"оранжевая",IF(E11>=5,"желтая","зеленая")))) | G11: =IF(F11="","",VLOOKUP(F11,Пороги!A:C,3,FALSE))
E12: =IF(C12*D12=0,"",C12*D12) | F12: =IF(E12="","",IF(E12>=15,"красная",IF(E12>=10,"оранжевая",IF(E12>=5,"желтая","зеленая")))) | G12: =IF(F12="","",VLOOKUP(F12,Пороги!A:C,3,FALSE))
E13: =IF(C13*D13=0,"",C13*D13) | F13: =IF(E13="","",IF(E13>=15,"красная",IF(E13>=10,"оранжевая",IF(E13>=5,"желтая","зеленая")))) | G13: =IF(F13="","",VLOOKUP(F13,Пороги!A:C,3,FALSE))
E14: =IF(C14*D14=0,"",C14*D14) | F14: =IF(E14="","",IF(E14>=15,"красная",IF(E14>=10,"оранжевая",IF(E14>=5,"желтая","зеленая")))) | G14: =IF(F14="","",VLOOKUP(F14,Пороги!A:C,3,FALSE))
E15: =IF(C15*D15=0,"",C15*D15) | F15: =IF(E15="","",IF(E15>=15,"красная",IF(E15>=10,"оранжевая",IF(E15>=5,"желтая","зеленая")))) | G15: =IF(F15="","",VLOOKUP(F15,Пороги!A:C,3,FALSE))
E16: =IF(C16*D16=0,"",C16*D16) | F16: =IF(E16="","",IF(E16>=15,"красная",IF(E16>=10,"оранжевая",IF(E16>=5,"желтая","зеленая")))) | G16: =IF(F16="","",VLOOKUP(F16,Пороги!A:C,3,FALSE))
... E23: =IF(C23*D23=0,"",C23*D23) | F23: =IF(E23="","",IF(E23>=15,"красная",IF(E23>=10,"оранжевая",IF(E23>=5,"желтая","зеленая")))) | G23: =IF(F23="","",VLOOKUP(F23,Пороги!A:C,3,FALSE))

Sheet Пороги
A1: Зона | B1: Уровень | C1: Что делать
A2: зеленая | B2: 1-4 | C2: Принять, наблюдать, пересмотр раз в год
A3: желтая | B3: 5-9 | C3: План мер, пересмотр ежеквартально
A4: оранжевая | B4: 10-14 | C4: Меры обязательны, контроль правления, КИР
A5: красная | B5: 15-25 | C5: Немедленные меры, доклад совету директоров, паспорт риска

Sheet Шкалы
A1: Шкала | B1: 1 | C1: 2 | D1: 3 | E1: 4 | F1: 5
A2: Вероятность | B2: 1 — редко: реже раза в 10 лет | C2: 2 — маловероятно: раз в 5-10 лет | D2: 3 — возможно: раз в 2-5 лет | E2: 4 — вероятно: раз в год | F2: 5 — почти наверняка: несколько раз в год
A3: Влияние (финансы) | B3: 1 — до [0,1 % годовой выручки] | C3: 2 — до [0,5 %] | D3: 3 — до [2 %] | E3: 4 — до [10 %] | F3: 5 — свыше [10 %] или угроза существованию
A4: Влияние (цели и репутация) | B4: 1 — заметно только внутри подразделения | C4: 2 — срыв задачи подразделения | D4: 3 — срыв цели компании на год | E4: 4 — срыв стратегической цели, негатив в СМИ | F4: 5 — потеря ключевых клиентов, лицензии, доверия рынка
A5: Зоны уровня (В × Вл) | B5: 1-4 зеленая: принять, наблюдать | C5: 5-9 желтая: план мер, пересмотр ежеквартально | D5: 10-14 оранжевая: меры обязательны, контроль правления | E5: 15-25 красная: немедленные меры, доклад совету

Sheet О шаблоне
A1: Шаблон подготовлен risk-place.ru, практика управления рисками Евгения Теленкова. Свободное использование внутри организации. Версия от 01.10.2026.
