Workbook

Sheet Реестр ИИ-систем
A1: Реестр систем искусственного интеллекта. Две первые строки — примеры. Уровень риска и обязательные контроли считаются формулами: высокий — система влияет на решения о людях и клиентах или сама принимает решения на персональных данных и коммерческой тайне; средний — есть чувствительные данные или система действует сама; низкий — остальное. Столбец «Сигнал» ловит чувствительные данные в публичном сервисе без договора.
A3: № | B3: ИИ-система или сервис | C3: Какую задачу решает | D3: Подразделение | E3: Владелец (должность) | F3: Тип | G3: Поставщик, где хранятся данные | H3: Договор с поставщиком о данных | I3: Персональные данные | J3: Коммерческая тайна | K3: Влияет на решения о людях и клиентах | L3: Самостоятельность | M3: Уровень риска | N3: Обязательные контроли | O3: Сигнал | P3: Действующие контроли | Q3: Дата проверки | R3: Следующая проверка
A4: 1 | B4: Отбор резюме в HR-системе | C4: Ранжирует кандидатов по соответствию вакансии | D4: Персонал | E4: Директор по персоналу | F4: встроенная функция купленной системы | G4: Российский поставщик, облако в РФ | H4: да | I4: да | J4: нет | K4: да | L4: рекомендует | M4: =IF(B4="","",IF(OR(K4="да",AND(L4="решает сама",OR(I4="да",J4="да"))),"высокий",IF(OR(I4="да",J4="да",L4="решает сама"),"средний","низкий"))) | N4: =IF(M4="","",VLOOKUP(M4,Уровни!$A$2:$C$4,3,FALSE)) | O4: =IF(AND(F4="публичный сервис",H4<>"да",OR(I4="да",J4="да")),"данные уходят без договора: остановить","") | P4: Решение о приглашении принимает рекрутер; квартальная выборочная проверка | Q4: 01.10.2026 | R4: 01.01.2027
A5: 2 | B5: Публичный чат-бот для черновиков писем | C5: Черновики писем и текстов на открытых данных | D5: Маркетинг | E5: Директор по маркетингу | F5: публичный сервис | G5: Зарубежный сервис | H5: нет | I5: нет | J5: нет | K5: нет | L5: рекомендует | M5: =IF(B5="","",IF(OR(K5="да",AND(L5="решает сама",OR(I5="да",J5="да"))),"высокий",IF(OR(I5="да",J5="да",L5="решает сама"),"средний","низкий"))) | N5: =IF(M5="","",VLOOKUP(M5,Уровни!$A$2:$C$4,3,FALSE)) | O5: =IF(AND(F5="публичный сервис",H5<>"да",OR(I5="да",J5="да")),"данные уходят без договора: остановить","") | P5: Правила использования доведены под подпись | Q5: 01.10.2026 | R5: 01.04.2027
A6: 3 | M6: =IF(B6="","",IF(OR(K6="да",AND(L6="решает сама",OR(I6="да",J6="да"))),"высокий",IF(OR(I6="да",J6="да",L6="решает сама"),"средний","низкий"))) | N6: =IF(M6="","",VLOOKUP(M6,Уровни!$A$2:$C$4,3,FALSE)) | O6: =IF(AND(F6="публичный сервис",H6<>"да",OR(I6="да",J6="да")),"данные уходят без договора: остановить","")
A7: 4 | M7: =IF(B7="","",IF(OR(K7="да",AND(L7="решает сама",OR(I7="да",J7="да"))),"высокий",IF(OR(I7="да",J7="да",L7="решает сама"),"средний","низкий"))) | N7: =IF(M7="","",VLOOKUP(M7,Уровни!$A$2:$C$4,3,FALSE)) | O7: =IF(AND(F7="публичный сервис",H7<>"да",OR(I7="да",J7="да")),"данные уходят без договора: остановить","")
A8: 5 | M8: =IF(B8="","",IF(OR(K8="да",AND(L8="решает сама",OR(I8="да",J8="да"))),"высокий",IF(OR(I8="да",J8="да",L8="решает сама"),"средний","низкий"))) | N8: =IF(M8="","",VLOOKUP(M8,Уровни!$A$2:$C$4,3,FALSE)) | O8: =IF(AND(F8="публичный сервис",H8<>"да",OR(I8="да",J8="да")),"данные уходят без договора: остановить","")
A9: 6 | M9: =IF(B9="","",IF(OR(K9="да",AND(L9="решает сама",OR(I9="да",J9="да"))),"высокий",IF(OR(I9="да",J9="да",L9="решает сама"),"средний","низкий"))) | N9: =IF(M9="","",VLOOKUP(M9,Уровни!$A$2:$C$4,3,FALSE)) | O9: =IF(AND(F9="публичный сервис",H9<>"да",OR(I9="да",J9="да")),"данные уходят без договора: остановить","")
A10: 7 | M10: =IF(B10="","",IF(OR(K10="да",AND(L10="решает сама",OR(I10="да",J10="да"))),"высокий",IF(OR(I10="да",J10="да",L10="решает сама"),"средний","низкий"))) | N10: =IF(M10="","",VLOOKUP(M10,Уровни!$A$2:$C$4,3,FALSE)) | O10: =IF(AND(F10="публичный сервис",H10<>"да",OR(I10="да",J10="да")),"данные уходят без договора: остановить","")
A11: 8 | M11: =IF(B11="","",IF(OR(K11="да",AND(L11="решает сама",OR(I11="да",J11="да"))),"высокий",IF(OR(I11="да",J11="да",L11="решает сама"),"средний","низкий"))) | N11: =IF(M11="","",VLOOKUP(M11,Уровни!$A$2:$C$4,3,FALSE)) | O11: =IF(AND(F11="публичный сервис",H11<>"да",OR(I11="да",J11="да")),"данные уходят без договора: остановить","")
A12: 9 | M12: =IF(B12="","",IF(OR(K12="да",AND(L12="решает сама",OR(I12="да",J12="да"))),"высокий",IF(OR(I12="да",J12="да",L12="решает сама"),"средний","низкий"))) | N12: =IF(M12="","",VLOOKUP(M12,Уровни!$A$2:$C$4,3,FALSE)) | O12: =IF(AND(F12="публичный сервис",H12<>"да",OR(I12="да",J12="да")),"данные уходят без договора: остановить","")
A13: 10 | M13: =IF(B13="","",IF(OR(K13="да",AND(L13="решает сама",OR(I13="да",J13="да"))),"высокий",IF(OR(I13="да",J13="да",L13="решает сама"),"средний","низкий"))) | N13: =IF(M13="","",VLOOKUP(M13,Уровни!$A$2:$C$4,3,FALSE)) | O13: =IF(AND(F13="публичный сервис",H13<>"да",OR(I13="да",J13="да")),"данные уходят без договора: остановить","")
A14: 11 | M14: =IF(B14="","",IF(OR(K14="да",AND(L14="решает сама",OR(I14="да",J14="да"))),"высокий",IF(OR(I14="да",J14="да",L14="решает сама"),"средний","низкий"))) | N14: =IF(M14="","",VLOOKUP(M14,Уровни!$A$2:$C$4,3,FALSE)) | O14: =IF(AND(F14="публичный сервис",H14<>"да",OR(I14="да",J14="да")),"данные уходят без договора: остановить","")
A15: 12 | M15: =IF(B15="","",IF(OR(K15="да",AND(L15="решает сама",OR(I15="да",J15="да"))),"высокий",IF(OR(I15="да",J15="да",L15="решает сама"),"средний","низкий"))) | N15: =IF(M15="","",VLOOKUP(M15,Уровни!$A$2:$C$4,3,FALSE)) | O15: =IF(AND(F15="публичный сервис",H15<>"да",OR(I15="да",J15="да")),"данные уходят без договора: остановить","")
A16: 13 | M16: =IF(B16="","",IF(OR(K16="да",AND(L16="решает сама",OR(I16="да",J16="да"))),"высокий",IF(OR(I16="да",J16="да",L16="решает сама"),"средний","низкий"))) | N16: =IF(M16="","",VLOOKUP(M16,Уровни!$A$2:$C$4,3,FALSE)) | O16: =IF(AND(F16="публичный сервис",H16<>"да",OR(I16="да",J16="да")),"данные уходят без договора: остановить","")
A17: 14 | M17: =IF(B17="","",IF(OR(K17="да",AND(L17="решает сама",OR(I17="да",J17="да"))),"высокий",IF(OR(I17="да",J17="да",L17="решает сама"),"средний","низкий"))) | N17: =IF(M17="","",VLOOKUP(M17,Уровни!$A$2:$C$4,3,FALSE)) | O17: =IF(AND(F17="публичный сервис",H17<>"да",OR(I17="да",J17="да")),"данные уходят без договора: остановить","")
... A43: 40 | M43: =IF(B43="","",IF(OR(K43="да",AND(L43="решает сама",OR(I43="да",J43="да"))),"высокий",IF(OR(I43="да",J43="да",L43="решает сама"),"средний","низкий"))) | N43: =IF(M43="","",VLOOKUP(M43,Уровни!$A$2:$C$4,3,FALSE)) | O43: =IF(AND(F43="публичный сервис",H43<>"да",OR(I43="да",J43="да")),"данные уходят без договора: остановить","")

Sheet Уровни
A1: Уровень | B1: Признаки | C1: Обязательные контроли
A2: высокий | B2: Система принимает или существенно определяет решения о людях и клиентах (найм, кредит, тарифы, доступ к услугам) либо сама принимает решения на персональных данных или коммерческой тайне | C2: Решение остается за человеком; проверка качества перед запуском и не реже раза в год; журнал решений; объяснимая причина решения; согласование ИБ и юристов; план работы при отказе системы
A3: средний | B3: Система работает с персональными данными или коммерческой тайной либо действует сама без проверки человеком | C3: Выборочная проверка результатов; правила, какие данные можно вводить; договор с поставщиком о хранении и использовании данных
A4: низкий | B4: Вспомогательные задачи на открытых данных: черновики текстов, перевод, поиск | C4: Общие правила использования; обучение сотрудников

Sheet Инвентаризация
A1: Источник | B1: Что искать
A2: Опрос руководителей подразделений | B2: Какие сервисы с ИИ используются, для каких задач, какие данные в них попадают
A3: Закупки и подписки | B3: Оплаченные сервисы и функции ИИ, встроенные в уже купленные системы: CRM, офисные пакеты, распознавание документов
A4: ИТ и информационная безопасность | B4: Обращения к адресам популярных ИИ-сервисов из корпоративной сети
A5: Собственные разработки | B5: Модели скоринга, прогноза, распознавания, чат-боты на сайте и в поддержке

Sheet Правила использования
A1: № | B1: Правило для сотрудников
A2: 1 | B2: Персональные данные, коммерческая тайна и тексты договоров вводятся только в сервисы, с поставщиком которых заключен договор о хранении и использовании данных.
A3: 2 | B3: Факты, цифры и ссылки на нормы проверяются в каждом результате, который уходит за пределы подразделения.
A4: 3 | B4: Если документ идет совету директоров, клиенту или регулятору, в нем указывается, где использован ИИ.
A5: 4 | B5: Об ошибках и инцидентах сотрудник сообщает владельцу ИИ-системы и в службу информационной безопасности.

Sheet О шаблоне
A1: Шаблон подготовлен risk-place.ru. Свободное использование внутри организации. Версия от 16.10.2026.
